BEGIN:VCALENDAR
VERSION:2.0
PRODID:-//Foguth Financial Group - ECPv6.15.8//NONSGML v1.0//EN
CALSCALE:GREGORIAN
METHOD:PUBLISH
X-ORIGINAL-URL:https://foguthfinancial.com
X-WR-CALDESC:Events for Foguth Financial Group
REFRESH-INTERVAL;VALUE=DURATION:PT1H
X-Robots-Tag:noindex
X-PUBLISHED-TTL:PT1H
BEGIN:VTIMEZONE
TZID:America/Detroit
BEGIN:DAYLIGHT
TZOFFSETFROM:-0500
TZOFFSETTO:-0400
TZNAME:EDT
DTSTART:20230312T070000
END:DAYLIGHT
BEGIN:STANDARD
TZOFFSETFROM:-0400
TZOFFSETTO:-0500
TZNAME:EST
DTSTART:20231105T060000
END:STANDARD
BEGIN:DAYLIGHT
TZOFFSETFROM:-0500
TZOFFSETTO:-0400
TZNAME:EDT
DTSTART:20240310T070000
END:DAYLIGHT
BEGIN:STANDARD
TZOFFSETFROM:-0400
TZOFFSETTO:-0500
TZNAME:EST
DTSTART:20241103T060000
END:STANDARD
BEGIN:DAYLIGHT
TZOFFSETFROM:-0500
TZOFFSETTO:-0400
TZNAME:EDT
DTSTART:20250309T070000
END:DAYLIGHT
BEGIN:STANDARD
TZOFFSETFROM:-0400
TZOFFSETTO:-0500
TZNAME:EST
DTSTART:20251102T060000
END:STANDARD
END:VTIMEZONE
BEGIN:VEVENT
DTSTART;TZID=America/Detroit:20240730T120000
DTEND;TZID=America/Detroit:20240730T140000
DTSTAMP:20260424T100637
CREATED:20240716T174953Z
LAST-MODIFIED:20240716T174953Z
UID:10001434-1722340800-1722348000@foguthfinancial.com
SUMMARY:Taxes in Retirement
DESCRIPTION:JOIN US FOR A COMPLIMENTARY MEAL AND EDUCATIONAL EVENT THAT WILL HELP  YOU DO THE FOLLOWING: \n\nIDENTIFY THE FIVE BIG RISKS OF RETIREMENT\nSHARE WITH YOU PROVEN METHODS TO HELP  MITIGATE THE IMPACTS OF INFLATION\nSHARE WITH YOU PROVEN METHODS TO HELP  MITIGATE THE IMPACTS OF TAXES\nBUILD A BETTER UNDERSTANDING OF THE RETIREMENT LANDSCAPE\n\nACT FAST BECAUSE SEATING IS LIMITED.
URL:https://foguthfinancial.com/event/taxes-in-retirement-303/
LOCATION:Fiamma Grille – Plymouth\, MI\, 380 S. Main St\, Plymouth\, MI\, 48170\, United States
CATEGORIES:Southeast Michigan
ATTACH;FMTTYPE=image/jpeg:https://foguthfinancial.com/wp-content/uploads/2024/04/event-taxes.jpeg
ORGANIZER;CN="Foguth Financial":MAILTO:george@foguthfinancial.com
END:VEVENT
BEGIN:VEVENT
DTSTART;TZID=America/Detroit:20240730T180000
DTEND;TZID=America/Detroit:20240730T200000
DTSTAMP:20260424T100637
CREATED:20240716T174622Z
LAST-MODIFIED:20240724T175839Z
UID:10001433-1722362400-1722369600@foguthfinancial.com
SUMMARY:Taxes in Retirement
DESCRIPTION:JOIN US FOR A COMPLIMENTARY MEAL AND EDUCATIONAL EVENT THAT WILL HELP  YOU DO THE FOLLOWING: \n\nIDENTIFY THE FIVE BIG RISKS OF RETIREMENT\nSHARE WITH YOU PROVEN METHODS TO HELP  MITIGATE THE IMPACTS OF INFLATION\nSHARE WITH YOU PROVEN METHODS TO HELP  MITIGATE THE IMPACTS OF TAXES\nBUILD A BETTER UNDERSTANDING OF THE RETIREMENT LANDSCAPE\n\nACT FAST BECAUSE SEATING IS LIMITED.
URL:https://foguthfinancial.com/event/taxes-in-retirement-302/
LOCATION:Buddies Grill – Holt\, MI\, 2040 N Aurelius Road #13\, Holt\, MI\, 48842\, United States
CATEGORIES:Central Michigan
ATTACH;FMTTYPE=image/jpeg:https://foguthfinancial.com/wp-content/uploads/2024/04/event-taxes.jpeg
ORGANIZER;CN="Foguth Financial":MAILTO:george@foguthfinancial.com
END:VEVENT
BEGIN:VEVENT
DTSTART;TZID=America/Detroit:20240730T180000
DTEND;TZID=America/Detroit:20240730T200000
DTSTAMP:20260424T100637
CREATED:20240716T175216Z
LAST-MODIFIED:20240716T175216Z
UID:10001435-1722362400-1722369600@foguthfinancial.com
SUMMARY:Taxes in Retirement
DESCRIPTION:JOIN US FOR A COMPLIMENTARY MEAL AND EDUCATIONAL EVENT THAT WILL HELP  YOU DO THE FOLLOWING: \n\nIDENTIFY THE FIVE BIG RISKS OF RETIREMENT\nSHARE WITH YOU PROVEN METHODS TO HELP  MITIGATE THE IMPACTS OF INFLATION\nSHARE WITH YOU PROVEN METHODS TO HELP  MITIGATE THE IMPACTS OF TAXES\nBUILD A BETTER UNDERSTANDING OF THE RETIREMENT LANDSCAPE\n\nACT FAST BECAUSE SEATING IS LIMITED.
URL:https://foguthfinancial.com/event/taxes-in-retirement-304/
LOCATION:Cooper’s Hawk – Grand Rapids\, MI\, 4515 28th St SE\, Kentwood\, MI\, 49512\, United States
CATEGORIES:Central Michigan
ATTACH;FMTTYPE=image/jpeg:https://foguthfinancial.com/wp-content/uploads/2024/04/event-taxes.jpeg
ORGANIZER;CN="Foguth Financial":MAILTO:george@foguthfinancial.com
END:VEVENT
BEGIN:VEVENT
DTSTART;TZID=America/Detroit:20240730T180000
DTEND;TZID=America/Detroit:20240730T200000
DTSTAMP:20260424T100637
CREATED:20240716T175338Z
LAST-MODIFIED:20240722T162642Z
UID:10001436-1722362400-1722369600@foguthfinancial.com
SUMMARY:Taxes in Retirement
DESCRIPTION:JOIN US FOR A COMPLIMENTARY MEAL AND EDUCATIONAL EVENT THAT WILL HELP  YOU DO THE FOLLOWING: \n\nIDENTIFY THE FIVE BIG RISKS OF RETIREMENT\nSHARE WITH YOU PROVEN METHODS TO HELP  MITIGATE THE IMPACTS OF INFLATION\nSHARE WITH YOU PROVEN METHODS TO HELP  MITIGATE THE IMPACTS OF TAXES\nBUILD A BETTER UNDERSTANDING OF THE RETIREMENT LANDSCAPE\n\nACT FAST BECAUSE SEATING IS LIMITED.
URL:https://foguthfinancial.com/event/taxes-in-retirement-305/
LOCATION:Benstein Grille\, 2435 Benstein Rd\, Commerce Twp\, 48390\, United States
CATEGORIES:Southeast Michigan
ATTACH;FMTTYPE=image/jpeg:https://foguthfinancial.com/wp-content/uploads/2024/04/event-taxes.jpeg
ORGANIZER;CN="Foguth Financial":MAILTO:george@foguthfinancial.com
END:VEVENT
END:VCALENDAR