BEGIN:VCALENDAR
VERSION:2.0
PRODID:-//Foguth Financial Group - ECPv6.15.8//NONSGML v1.0//EN
CALSCALE:GREGORIAN
METHOD:PUBLISH
X-ORIGINAL-URL:https://foguthfinancial.com
X-WR-CALDESC:Events for Foguth Financial Group
REFRESH-INTERVAL;VALUE=DURATION:PT1H
X-Robots-Tag:noindex
X-PUBLISHED-TTL:PT1H
BEGIN:VTIMEZONE
TZID:America/Detroit
BEGIN:DAYLIGHT
TZOFFSETFROM:-0500
TZOFFSETTO:-0400
TZNAME:EDT
DTSTART:20250309T070000
END:DAYLIGHT
BEGIN:STANDARD
TZOFFSETFROM:-0400
TZOFFSETTO:-0500
TZNAME:EST
DTSTART:20251102T060000
END:STANDARD
BEGIN:DAYLIGHT
TZOFFSETFROM:-0500
TZOFFSETTO:-0400
TZNAME:EDT
DTSTART:20260308T070000
END:DAYLIGHT
BEGIN:STANDARD
TZOFFSETFROM:-0400
TZOFFSETTO:-0500
TZNAME:EST
DTSTART:20261101T060000
END:STANDARD
BEGIN:DAYLIGHT
TZOFFSETFROM:-0500
TZOFFSETTO:-0400
TZNAME:EDT
DTSTART:20270314T070000
END:DAYLIGHT
BEGIN:STANDARD
TZOFFSETFROM:-0400
TZOFFSETTO:-0500
TZNAME:EST
DTSTART:20271107T060000
END:STANDARD
END:VTIMEZONE
BEGIN:VEVENT
DTSTART;TZID=America/Detroit:20260126T180000
DTEND;TZID=America/Detroit:20260126T200000
DTSTAMP:20260421T180221
CREATED:20251217T195720Z
LAST-MODIFIED:20260122T175318Z
UID:10001995-1769450400-1769457600@foguthfinancial.com
SUMMARY:Taxes in Retirement
DESCRIPTION:JOIN US FOR A COMPLIMENTARY MEAL AND  EDUCATIONAL EVENT THAT WILL HELP  YOU DO THE FOLLOWING: \n\nIDENTIFY THE FIVE BIG RISKS OF RETIREMENT\nSHARE WITH YOU PROVEN METHODS TO HELP  MITIGATE THE IMPACTS OF INFLATION\nSHARE WITH YOU PROVEN METHODS TO HELP  MITIGATE THE IMPACTS OF TAXES\nBUILD A BETTER UNDERSTANDING OF THE RETIREMENT LANDSCAPE\n\nACT FAST BECAUSE SEATING IS LIMITED.  \nAs seating is limited\, FIRST TIME ATTENDEES ONLY\, please. \n 
URL:https://foguthfinancial.com/event/taxes-in-retirement-660/
LOCATION:Lucky’s Steakhouse-Okemos\, 3554 Okemos Rd\, Okemos\, MI\, 48864\, United States
CATEGORIES:Mid Michigan
ATTACH;FMTTYPE=image/png:https://foguthfinancial.com/wp-content/uploads/2025/02/Untitled-design-19-1.png
ORGANIZER;CN="Foguth Financial":MAILTO:george@foguthfinancial.com
END:VEVENT
BEGIN:VEVENT
DTSTART;TZID=America/Detroit:20260126T180000
DTEND;TZID=America/Detroit:20260126T200000
DTSTAMP:20260421T180221
CREATED:20251217T195904Z
LAST-MODIFIED:20260114T190448Z
UID:10001996-1769450400-1769457600@foguthfinancial.com
SUMMARY:Estate Planning
DESCRIPTION:JOIN US FOR AN EDUCATIONAL EVENT THAT WILL HELP YOU WITH THE FOLLOWING: \n\nESTATE PLANNING ESSENTIALS-Leveraging today’s exemptions\, trusts and charitable tools to preserve and transfer wealth efficiently\nTAX STRATEGIES-Coordinate withdrawals from taxable\, tax-deferred and tax-free accounts strategically\nMAKING SENSE OF TODAY’S MARKETS-We’ll discuss how to think about investing in today’s uncertain market-balancing opportunity with discipline to make smart\, long-term decisions\nLEGACY PLANNING-Protect your assets and share your legacy with your children\, favorite charity or another designated beneficiary\n\n  \nACT FAST BECAUSE SEATING IS LIMITED.  \nAs seating is limited\, FIRST TIME ATTENDEES ONLY\, please. \n 
URL:https://foguthfinancial.com/event/estate-planning-16/
LOCATION:The Hagerty Center at Northwestern Michigan College\, 715 East Front Street\, Traverse City\, MI\, 49686\, United States
CATEGORIES:Northern Michigan
ATTACH;FMTTYPE=image/png:https://foguthfinancial.com/wp-content/uploads/2025/02/Untitled-design-19-1.png
ORGANIZER;CN="Foguth Financial":MAILTO:george@foguthfinancial.com
END:VEVENT
BEGIN:VEVENT
DTSTART;TZID=America/Detroit:20260126T180000
DTEND;TZID=America/Detroit:20260126T200000
DTSTAMP:20260421T180221
CREATED:20251217T203445Z
LAST-MODIFIED:20260122T175115Z
UID:10001997-1769450400-1769457600@foguthfinancial.com
SUMMARY:Estate Planning
DESCRIPTION:JOIN US FOR A COMPLIMENTARY MEAL AND EDUCATIONAL EVENT THAT WILL HELP YOU WITH THE FOLLOWING: \n\nESTATE PLANNING ESSENTIALS-Leveraging today’s exemptions\, trusts and charitable tools to preserve and transfer wealth efficiently\nTAX STRATEGIES-Coordinate withdrawals from taxable\, tax-deferred and tax-free accounts strategically\nMAKING SENSE OF TODAY’S MARKETS-We’ll discuss how to think about investing in today’s uncertain market-balancing opportunity with discipline to make smart\, long-term decisions\nLEGACY PLANNING-Protect your assets and share your legacy with your children\, favorite charity or another designated beneficiary\n\n  \nACT FAST BECAUSE SEATING IS LIMITED.  \nAs seating is limited\, FIRST TIME ATTENDEES ONLY\, please. \n 
URL:https://foguthfinancial.com/event/estate-planning-17/
LOCATION:Sapori Italian Restaurant\, 6067 26 Mile Rd\, Washington\, MI\, 48094\, United States
CATEGORIES:Southeast Michigan
ATTACH;FMTTYPE=image/png:https://foguthfinancial.com/wp-content/uploads/2025/02/Untitled-design-19-1.png
ORGANIZER;CN="Foguth Financial":MAILTO:george@foguthfinancial.com
END:VEVENT
BEGIN:VEVENT
DTSTART;TZID=America/Detroit:20260126T180000
DTEND;TZID=America/Detroit:20260126T200000
DTSTAMP:20260421T180221
CREATED:20251217T203655Z
LAST-MODIFIED:20260109T214337Z
UID:10001998-1769450400-1769457600@foguthfinancial.com
SUMMARY:Estate Planning
DESCRIPTION:JOIN US FOR A COMPLIMENTARY MEAL AND EDUCATIONAL EVENT THAT WILL HELP YOU WITH THE FOLLOWING: \n\nESTATE PLANNING ESSENTIALS-Leveraging today’s exemptions\, trusts and charitable tools to preserve and transfer wealth efficiently\nTAX STRATEGIES-Coordinate withdrawals from taxable\, tax-deferred and tax-free accounts strategically\nMAKING SENSE OF TODAY’S MARKETS-We’ll discuss how to think about investing in today’s uncertain market-balancing opportunity with discipline to make smart\, long-term decisions\nLEGACY PLANNING-Protect your assets and share your legacy with your children\, favorite charity or another designated beneficiary\n\n  \nACT FAST BECAUSE SEATING IS LIMITED.  \nAs seating is limited\, FIRST TIME ATTENDEES ONLY\, please. \n 
URL:https://foguthfinancial.com/event/estate-planning-18/
LOCATION:Andiamo Bloomfield Hills\, 6676 Telegraph Rd\, Bloomfield\, MI\, 48301\, United States
CATEGORIES:Southeast Michigan
ATTACH;FMTTYPE=image/png:https://foguthfinancial.com/wp-content/uploads/2025/02/Untitled-design-19-1.png
ORGANIZER;CN="Foguth Financial":MAILTO:george@foguthfinancial.com
END:VEVENT
END:VCALENDAR