BEGIN:VCALENDAR
VERSION:2.0
PRODID:-//Foguth Financial Group - ECPv6.15.8//NONSGML v1.0//EN
CALSCALE:GREGORIAN
METHOD:PUBLISH
X-ORIGINAL-URL:https://foguthfinancial.com
X-WR-CALDESC:Events for Foguth Financial Group
REFRESH-INTERVAL;VALUE=DURATION:PT1H
X-Robots-Tag:noindex
X-PUBLISHED-TTL:PT1H
BEGIN:VTIMEZONE
TZID:America/Detroit
BEGIN:DAYLIGHT
TZOFFSETFROM:-0500
TZOFFSETTO:-0400
TZNAME:EDT
DTSTART:20250309T070000
END:DAYLIGHT
BEGIN:STANDARD
TZOFFSETFROM:-0400
TZOFFSETTO:-0500
TZNAME:EST
DTSTART:20251102T060000
END:STANDARD
BEGIN:DAYLIGHT
TZOFFSETFROM:-0500
TZOFFSETTO:-0400
TZNAME:EDT
DTSTART:20260308T070000
END:DAYLIGHT
BEGIN:STANDARD
TZOFFSETFROM:-0400
TZOFFSETTO:-0500
TZNAME:EST
DTSTART:20261101T060000
END:STANDARD
BEGIN:DAYLIGHT
TZOFFSETFROM:-0500
TZOFFSETTO:-0400
TZNAME:EDT
DTSTART:20270314T070000
END:DAYLIGHT
BEGIN:STANDARD
TZOFFSETFROM:-0400
TZOFFSETTO:-0500
TZNAME:EST
DTSTART:20271107T060000
END:STANDARD
END:VTIMEZONE
BEGIN:VTIMEZONE
TZID:America/Phoenix
BEGIN:STANDARD
TZOFFSETFROM:-0700
TZOFFSETTO:-0700
TZNAME:MST
DTSTART:20250101T000000
END:STANDARD
END:VTIMEZONE
BEGIN:VEVENT
DTSTART;TZID=America/Detroit:20260219T180000
DTEND;TZID=America/Detroit:20260219T200000
DTSTAMP:20260421T192627
CREATED:20260105T153901Z
LAST-MODIFIED:20260216T215039Z
UID:10002034-1771524000-1771531200@foguthfinancial.com
SUMMARY:Estate Planning
DESCRIPTION:JOIN US FOR A COMPLIMENTARY MEAL AND EDUCATIONAL EVENT THAT WILL HELP YOU WITH THE FOLLOWING: \n\nESTATE PLANNING ESSENTIALS-Leveraging today’s exemptions\, trusts and charitable tools to preserve and transfer wealth efficiently\nTAX STRATEGIES-Coordinate withdrawals from taxable\, tax-deferred and tax-free accounts strategically\nMAKING SENSE OF TODAY’S MARKETS-We’ll discuss how to think about investing in today’s uncertain market-balancing opportunity with discipline to make smart\, long-term decisions\nLEGACY PLANNING-Protect your assets and share your legacy with your children\, favorite charity or another designated beneficiary\n\n  \nACT FAST BECAUSE SEATING IS LIMITED.  \nAs seating is limited\, FIRST TIME ATTENDEES ONLY\, please. \n 
URL:https://foguthfinancial.com/event/estate-planning-40/
LOCATION:Verona Inspired Italian\, 50741 Corporate Dr\, Shelby Twp\, MI\, 48315\, United States
CATEGORIES:Southeast Michigan
ATTACH;FMTTYPE=image/png:https://foguthfinancial.com/wp-content/uploads/2025/02/Untitled-design-19-1.png
ORGANIZER;CN="Foguth Financial":MAILTO:george@foguthfinancial.com
END:VEVENT
BEGIN:VEVENT
DTSTART;TZID=America/Detroit:20260219T180000
DTEND;TZID=America/Detroit:20260219T200000
DTSTAMP:20260421T192627
CREATED:20260105T154042Z
LAST-MODIFIED:20260105T154042Z
UID:10002035-1771524000-1771531200@foguthfinancial.com
SUMMARY:Estate Planning
DESCRIPTION:JOIN US FOR A COMPLIMENTARY MEAL AND EDUCATIONAL EVENT THAT WILL HELP YOU WITH THE FOLLOWING: \n\nESTATE PLANNING ESSENTIALS-Leveraging today’s exemptions\, trusts and charitable tools to preserve and transfer wealth efficiently\nTAX STRATEGIES-Coordinate withdrawals from taxable\, tax-deferred and tax-free accounts strategically\nMAKING SENSE OF TODAY’S MARKETS-We’ll discuss how to think about investing in today’s uncertain market-balancing opportunity with discipline to make smart\, long-term decisions\nLEGACY PLANNING-Protect your assets and share your legacy with your children\, favorite charity or another designated beneficiary\n\n  \nACT FAST BECAUSE SEATING IS LIMITED.  \nAs seating is limited\, FIRST TIME ATTENDEES ONLY\, please. \n 
URL:https://foguthfinancial.com/event/estate-planning-41/
LOCATION:Kickstand Brewing Company\, 3050 Union Lake Rd Ste 4A\, Commerce Twp\, MI\, 48382\, United States
CATEGORIES:Southeast Michigan
ATTACH;FMTTYPE=image/png:https://foguthfinancial.com/wp-content/uploads/2025/12/image-3.png
ORGANIZER;CN="Foguth Financial":MAILTO:george@foguthfinancial.com
END:VEVENT
BEGIN:VEVENT
DTSTART;TZID=America/Phoenix:20260219T180000
DTEND;TZID=America/Phoenix:20260219T200000
DTSTAMP:20260421T192627
CREATED:20260105T154525Z
LAST-MODIFIED:20260105T154525Z
UID:10002036-1771524000-1771531200@foguthfinancial.com
SUMMARY:Taxes in Retirement
DESCRIPTION:JOIN US FOR A COMPLIMENTARY MEAL AND  EDUCATIONAL EVENT THAT WILL HELP  YOU DO THE FOLLOWING: \n\nIDENTIFY THE FIVE BIG RISKS OF RETIREMENT\nSHARE WITH YOU PROVEN METHODS TO HELP  MITIGATE THE IMPACTS OF INFLATION\nSHARE WITH YOU PROVEN METHODS TO HELP  MITIGATE THE IMPACTS OF TAXES\nBUILD A BETTER UNDERSTANDING OF THE RETIREMENT LANDSCAPE\n\nACT FAST BECAUSE SEATING IS LIMITED.  \nAs seating is limited\, FIRST TIME ATTENDEES ONLY\, please. \n 
URL:https://foguthfinancial.com/event/taxes-in-retirement-670/
LOCATION:High Tide-Chandler\, 5045 S Gilbert Rd Suite 1\, Chandler\, AZ\, 85249\, United States
CATEGORIES:Central Arizona
ATTACH;FMTTYPE=image/png:https://foguthfinancial.com/wp-content/uploads/2025/11/How-to-Minimize-Taxes-in-Retirement_-Better-Financial-Education.png
ORGANIZER;CN="Foguth Financial":MAILTO:george@foguthfinancial.com
END:VEVENT
BEGIN:VEVENT
DTSTART;TZID=America/Detroit:20260219T180000
DTEND;TZID=America/Detroit:20260219T200000
DTSTAMP:20260421T192627
CREATED:20260105T154745Z
LAST-MODIFIED:20260105T154745Z
UID:10002037-1771524000-1771531200@foguthfinancial.com
SUMMARY:Taxes in Retirement
DESCRIPTION:JOIN US FOR A COMPLIMENTARY MEAL AND  EDUCATIONAL EVENT THAT WILL HELP  YOU DO THE FOLLOWING: \n\nIDENTIFY THE FIVE BIG RISKS OF RETIREMENT\nSHARE WITH YOU PROVEN METHODS TO HELP  MITIGATE THE IMPACTS OF INFLATION\nSHARE WITH YOU PROVEN METHODS TO HELP  MITIGATE THE IMPACTS OF TAXES\nBUILD A BETTER UNDERSTANDING OF THE RETIREMENT LANDSCAPE\n\nACT FAST BECAUSE SEATING IS LIMITED.  \nAs seating is limited\, FIRST TIME ATTENDEES ONLY\, please. \n 
URL:https://foguthfinancial.com/event/taxes-in-retirement-671/
LOCATION:South Lyon Hotel – South Lyon\, MI\, 201 N Lafayette St\, South Lyon\, MI\, 48178\, United States
CATEGORIES:Southeast Michigan
ATTACH;FMTTYPE=image/png:https://foguthfinancial.com/wp-content/uploads/2025/11/How-to-Minimize-Taxes-in-Retirement_-Better-Financial-Education.png
ORGANIZER;CN="Foguth Financial":MAILTO:george@foguthfinancial.com
END:VEVENT
BEGIN:VEVENT
DTSTART;TZID=America/Detroit:20260219T180000
DTEND;TZID=America/Detroit:20260219T200000
DTSTAMP:20260421T192627
CREATED:20260126T211312Z
LAST-MODIFIED:20260220T144027Z
UID:10002042-1771524000-1771531200@foguthfinancial.com
SUMMARY:Taxes in Retirement
DESCRIPTION:JOIN US FOR A COMPLIMENTARY MEAL AND  EDUCATIONAL EVENT THAT WILL HELP  YOU DO THE FOLLOWING: \n\nIDENTIFY THE FIVE BIG RISKS OF RETIREMENT\nSHARE WITH YOU PROVEN METHODS TO HELP  MITIGATE THE IMPACTS OF INFLATION\nSHARE WITH YOU PROVEN METHODS TO HELP  MITIGATE THE IMPACTS OF TAXES\nBUILD A BETTER UNDERSTANDING OF THE RETIREMENT LANDSCAPE\n\nACT FAST BECAUSE SEATING IS LIMITED.  \nAs seating is limited\, FIRST TIME ATTENDEES ONLY\, please. \n 
URL:https://foguthfinancial.com/event/taxes-in-retirement-673/
LOCATION:Brick Street\, 1223 E Grand Blanc Rd\, Grand Blanc\, MI\, 48439\, United States
CATEGORIES:Southeast Michigan
ATTACH;FMTTYPE=image/png:https://foguthfinancial.com/wp-content/uploads/2025/02/Untitled-design-19-1.png
ORGANIZER;CN="Foguth Financial":MAILTO:george@foguthfinancial.com
END:VEVENT
END:VCALENDAR