BEGIN:VCALENDAR
VERSION:2.0
PRODID:-//Foguth Financial Group - ECPv6.15.8//NONSGML v1.0//EN
CALSCALE:GREGORIAN
METHOD:PUBLISH
X-ORIGINAL-URL:https://foguthfinancial.com
X-WR-CALDESC:Events for Foguth Financial Group
REFRESH-INTERVAL;VALUE=DURATION:PT1H
X-Robots-Tag:noindex
X-PUBLISHED-TTL:PT1H
BEGIN:VTIMEZONE
TZID:America/Detroit
BEGIN:DAYLIGHT
TZOFFSETFROM:-0500
TZOFFSETTO:-0400
TZNAME:EDT
DTSTART:20250309T070000
END:DAYLIGHT
BEGIN:STANDARD
TZOFFSETFROM:-0400
TZOFFSETTO:-0500
TZNAME:EST
DTSTART:20251102T060000
END:STANDARD
BEGIN:DAYLIGHT
TZOFFSETFROM:-0500
TZOFFSETTO:-0400
TZNAME:EDT
DTSTART:20260308T070000
END:DAYLIGHT
BEGIN:STANDARD
TZOFFSETFROM:-0400
TZOFFSETTO:-0500
TZNAME:EST
DTSTART:20261101T060000
END:STANDARD
BEGIN:DAYLIGHT
TZOFFSETFROM:-0500
TZOFFSETTO:-0400
TZNAME:EDT
DTSTART:20270314T070000
END:DAYLIGHT
BEGIN:STANDARD
TZOFFSETFROM:-0400
TZOFFSETTO:-0500
TZNAME:EST
DTSTART:20271107T060000
END:STANDARD
END:VTIMEZONE
BEGIN:VEVENT
DTSTART;TZID=America/Detroit:20260223T180000
DTEND;TZID=America/Detroit:20260223T180000
DTSTAMP:20260421T173531
CREATED:20260126T212628Z
LAST-MODIFIED:20260212T173922Z
UID:10002044-1771869600-1771869600@foguthfinancial.com
SUMMARY:Estate Planning
DESCRIPTION:JOIN US FOR A COMPLIMENTARY MEAL AND EDUCATIONAL EVENT THAT WILL HELP YOU WITH THE FOLLOWING: \n\nESTATE PLANNING ESSENTIALS-Leveraging today’s exemptions\, trusts and charitable tools to preserve and transfer wealth efficiently\nTAX STRATEGIES-Coordinate withdrawals from taxable\, tax-deferred and tax-free accounts strategically\nMAKING SENSE OF TODAY’S MARKETS-We’ll discuss how to think about investing in today’s uncertain market-balancing opportunity with discipline to make smart\, long-term decisions\nLEGACY PLANNING-Protect your assets and share your legacy with your children\, favorite charity or another designated beneficiary\n\n  \nACT FAST BECAUSE SEATING IS LIMITED.  \nAs seating is limited\, FIRST TIME ATTENDEES ONLY\, please. \n 
URL:https://foguthfinancial.com/event/estate-planning-44/
LOCATION:Ford’s Garage\, 21367 Michigan Ave\, Dearborn\, MI\, 48124\, United States
CATEGORIES:Southeast Michigan
ATTACH;FMTTYPE=image/png:https://foguthfinancial.com/wp-content/uploads/2025/02/Untitled-design-19-1.png
ORGANIZER;CN="Foguth Financial":MAILTO:george@foguthfinancial.com
END:VEVENT
BEGIN:VEVENT
DTSTART;TZID=America/Detroit:20260223T180000
DTEND;TZID=America/Detroit:20260223T200000
DTSTAMP:20260421T173531
CREATED:20260105T154939Z
LAST-MODIFIED:20260220T144208Z
UID:10002038-1771869600-1771876800@foguthfinancial.com
SUMMARY:Women's Retirement Roadmap
DESCRIPTION:Retirement planning is essential for everyone\, but it holds particular significance for women. Several unique factors  include: \n\nCaregiving Responsibilities: Women often enter the workforce later than men or may take career breaks to pursue education\, care for elderly parents\, or raise children. These interruptions can impact savings\, making it crucial to plan for retirement.\nIncome Gap: Women face wage gaps in the workplace\, earning less on average than their male counterparts resulting in a need for strategic financial planning.\nLongevity: Women tend to live longer than men\, which means they need to plan for a longer retirement period.\nHealthcare Considerations: As women age\, healthcare needs often become more significant and costly. Planning for potential medical expenses\, including long-term care\, is a critical aspect of retirement preparation.\n\nJoin us for this event designed specifically for women\, where we will discuss these factors in detail and provide guidance on how to navigate these unique challenges. \nACT FAST BECAUSE SEATING IS LIMITED. \nAs seating is limited\, FIRST TIME ATTENDEES ONLY\, please.
URL:https://foguthfinancial.com/event/womens-retirement-roadmap-30/
LOCATION:HomeGrown Brewing Company – Oxford\, MI\, 28 N Washington St\, Oxford\, MI\, 48371\, United States
CATEGORIES:Southeast Michigan
ATTACH;FMTTYPE=image/png:https://foguthfinancial.com/wp-content/uploads/2025/02/Untitled-design-19-1.png
ORGANIZER;CN="Foguth Financial":MAILTO:george@foguthfinancial.com
END:VEVENT
END:VCALENDAR