BEGIN:VCALENDAR
VERSION:2.0
PRODID:-//Foguth Financial Group - ECPv6.15.8//NONSGML v1.0//EN
CALSCALE:GREGORIAN
METHOD:PUBLISH
X-ORIGINAL-URL:https://foguthfinancial.com
X-WR-CALDESC:Events for Foguth Financial Group
REFRESH-INTERVAL;VALUE=DURATION:PT1H
X-Robots-Tag:noindex
X-PUBLISHED-TTL:PT1H
BEGIN:VTIMEZONE
TZID:America/Detroit
BEGIN:DAYLIGHT
TZOFFSETFROM:-0500
TZOFFSETTO:-0400
TZNAME:EDT
DTSTART:20250309T070000
END:DAYLIGHT
BEGIN:STANDARD
TZOFFSETFROM:-0400
TZOFFSETTO:-0500
TZNAME:EST
DTSTART:20251102T060000
END:STANDARD
BEGIN:DAYLIGHT
TZOFFSETFROM:-0500
TZOFFSETTO:-0400
TZNAME:EDT
DTSTART:20260308T070000
END:DAYLIGHT
BEGIN:STANDARD
TZOFFSETFROM:-0400
TZOFFSETTO:-0500
TZNAME:EST
DTSTART:20261101T060000
END:STANDARD
BEGIN:DAYLIGHT
TZOFFSETFROM:-0500
TZOFFSETTO:-0400
TZNAME:EDT
DTSTART:20270314T070000
END:DAYLIGHT
BEGIN:STANDARD
TZOFFSETFROM:-0400
TZOFFSETTO:-0500
TZNAME:EST
DTSTART:20271107T060000
END:STANDARD
END:VTIMEZONE
BEGIN:VEVENT
DTSTART;TZID=America/Detroit:20260323T180000
DTEND;TZID=America/Detroit:20260323T200000
DTSTAMP:20260421T162710
CREATED:20260303T200728Z
LAST-MODIFIED:20260319T154018Z
UID:10002097-1774288800-1774296000@foguthfinancial.com
SUMMARY:Women's Retirement Roadmap
DESCRIPTION:Retirement planning is essential for everyone\, but it holds particular significance for women. Several unique factors  include: \n\nCaregiving Responsibilities: Women often enter the workforce later than men or may take career breaks to pursue education\, care for elderly parents\, or raise children. These interruptions can impact savings\, making it crucial to plan for retirement.\nIncome Gap: Women face wage gaps in the workplace\, earning less on average than their male counterparts resulting in a need for strategic financial planning.\nLongevity: Women tend to live longer than men\, which means they need to plan for a longer retirement period.\nHealthcare Considerations: As women age\, healthcare needs often become more significant and costly. Planning for potential medical expenses\, including long-term care\, is a critical aspect of retirement preparation.\n\nJoin us for this event designed specifically for women\, where we will discuss these factors in detail and provide guidance on how to navigate these unique challenges. \nACT FAST BECAUSE SEATING IS LIMITED. \nAs seating is limited\, FIRST TIME ATTENDEES ONLY\, please.
URL:https://foguthfinancial.com/event/womens-retirement-roadmap-35/
LOCATION:White Horse Inn – Metamora\, 1 E High St\, Metamora\, MI\, 48455\, United States
CATEGORIES:Southeast Michigan
ATTACH;FMTTYPE=image/png:https://foguthfinancial.com/wp-content/uploads/2025/02/Untitled-design-19-1.png
ORGANIZER;CN="Foguth Financial":MAILTO:george@foguthfinancial.com
END:VEVENT
END:VCALENDAR