BEGIN:VCALENDAR
VERSION:2.0
PRODID:-//Foguth Financial Group - ECPv6.15.8//NONSGML v1.0//EN
CALSCALE:GREGORIAN
METHOD:PUBLISH
X-WR-CALNAME:Foguth Financial Group
X-ORIGINAL-URL:https://foguthfinancial.com
X-WR-CALDESC:Events for Foguth Financial Group
REFRESH-INTERVAL;VALUE=DURATION:PT1H
X-Robots-Tag:noindex
X-PUBLISHED-TTL:PT1H
BEGIN:VTIMEZONE
TZID:America/Detroit
BEGIN:DAYLIGHT
TZOFFSETFROM:-0500
TZOFFSETTO:-0400
TZNAME:EDT
DTSTART:20250309T070000
END:DAYLIGHT
BEGIN:STANDARD
TZOFFSETFROM:-0400
TZOFFSETTO:-0500
TZNAME:EST
DTSTART:20251102T060000
END:STANDARD
BEGIN:DAYLIGHT
TZOFFSETFROM:-0500
TZOFFSETTO:-0400
TZNAME:EDT
DTSTART:20260308T070000
END:DAYLIGHT
BEGIN:STANDARD
TZOFFSETFROM:-0400
TZOFFSETTO:-0500
TZNAME:EST
DTSTART:20261101T060000
END:STANDARD
BEGIN:DAYLIGHT
TZOFFSETFROM:-0500
TZOFFSETTO:-0400
TZNAME:EDT
DTSTART:20270314T070000
END:DAYLIGHT
BEGIN:STANDARD
TZOFFSETFROM:-0400
TZOFFSETTO:-0500
TZNAME:EST
DTSTART:20271107T060000
END:STANDARD
END:VTIMEZONE
BEGIN:VTIMEZONE
TZID:America/Phoenix
BEGIN:STANDARD
TZOFFSETFROM:-0700
TZOFFSETTO:-0700
TZNAME:MST
DTSTART:20250101T000000
END:STANDARD
END:VTIMEZONE
BEGIN:VEVENT
DTSTART;TZID=America/Detroit:20260505T180000
DTEND;TZID=America/Detroit:20260505T200000
DTSTAMP:20260421T161436
CREATED:20260420T182016Z
LAST-MODIFIED:20260420T182016Z
UID:10002174-1778004000-1778011200@foguthfinancial.com
SUMMARY:Taxes in Retirement
DESCRIPTION:JOIN US FOR A COMPLIMENTARY MEAL AND  EDUCATIONAL EVENT THAT WILL HELP  YOU DO THE FOLLOWING: \n\nIDENTIFY THE FIVE BIG RISKS OF RETIREMENT\nSHARE WITH YOU PROVEN METHODS TO HELP  MITIGATE THE IMPACTS OF INFLATION\nSHARE WITH YOU PROVEN METHODS TO HELP  MITIGATE THE IMPACTS OF TAXES\nBUILD A BETTER UNDERSTANDING OF THE RETIREMENT LANDSCAPE\n\nACT FAST BECAUSE SEATING IS LIMITED.  \nAs seating is limited\, FIRST TIME ATTENDEES ONLY\, please. \n 
URL:https://foguthfinancial.com/event/taxes-in-retirement-706/
LOCATION:Fireside Kitchen\, 4555 Pelton Road\, Clarkston\, MI\, 48346\, United States
CATEGORIES:Southeast Michigan
ATTACH;FMTTYPE=image/png:https://foguthfinancial.com/wp-content/uploads/2025/11/How-to-Minimize-Taxes-in-Retirement_-Better-Financial-Education.png
ORGANIZER;CN="Foguth Financial":MAILTO:george@foguthfinancial.com
END:VEVENT
BEGIN:VEVENT
DTSTART;TZID=America/Phoenix:20260506T180000
DTEND;TZID=America/Phoenix:20260506T180000
DTSTAMP:20260421T161436
CREATED:20260420T182748Z
LAST-MODIFIED:20260420T182748Z
UID:10002177-1778090400-1778090400@foguthfinancial.com
SUMMARY:Taxes in Retirement
DESCRIPTION:JOIN US FOR A COMPLIMENTARY MEAL AND  EDUCATIONAL EVENT THAT WILL HELP  YOU DO THE FOLLOWING: \n\nIDENTIFY THE FIVE BIG RISKS OF RETIREMENT\nSHARE WITH YOU PROVEN METHODS TO HELP  MITIGATE THE IMPACTS OF INFLATION\nSHARE WITH YOU PROVEN METHODS TO HELP  MITIGATE THE IMPACTS OF TAXES\nBUILD A BETTER UNDERSTANDING OF THE RETIREMENT LANDSCAPE\n\nACT FAST BECAUSE SEATING IS LIMITED.  \nAs seating is limited\, FIRST TIME ATTENDEES ONLY\, please. \n 
URL:https://foguthfinancial.com/event/taxes-in-retirement-709/
LOCATION:The Keg\, 21001 N Tatum Blvd\, Phoenix\, AZ\, 85050\, United States
CATEGORIES:Central Arizona
ATTACH;FMTTYPE=image/png:https://foguthfinancial.com/wp-content/uploads/2025/11/How-to-Minimize-Taxes-in-Retirement_-Better-Financial-Education.png
ORGANIZER;CN="Foguth Financial":MAILTO:george@foguthfinancial.com
END:VEVENT
BEGIN:VEVENT
DTSTART;TZID=America/Detroit:20260506T180000
DTEND;TZID=America/Detroit:20260506T200000
DTSTAMP:20260421T161436
CREATED:20260420T182219Z
LAST-MODIFIED:20260420T182519Z
UID:10002175-1778090400-1778097600@foguthfinancial.com
SUMMARY:Taxes in Retirement
DESCRIPTION:JOIN US FOR A COMPLIMENTARY MEAL AND  EDUCATIONAL EVENT THAT WILL HELP  YOU DO THE FOLLOWING: \n\nIDENTIFY THE FIVE BIG RISKS OF RETIREMENT\nSHARE WITH YOU PROVEN METHODS TO HELP  MITIGATE THE IMPACTS OF INFLATION\nSHARE WITH YOU PROVEN METHODS TO HELP  MITIGATE THE IMPACTS OF TAXES\nBUILD A BETTER UNDERSTANDING OF THE RETIREMENT LANDSCAPE\n\nACT FAST BECAUSE SEATING IS LIMITED.  \nAs seating is limited\, FIRST TIME ATTENDEES ONLY\, please. \n 
URL:https://foguthfinancial.com/event/taxes-in-retirement-707/
LOCATION:No. Six Prime – Novi\, MI\, 27000 S Karevich Dr\, Novi\, MI\, 48377\, United States
CATEGORIES:Southeast Michigan
ATTACH;FMTTYPE=image/png:https://foguthfinancial.com/wp-content/uploads/2025/11/How-to-Minimize-Taxes-in-Retirement_-Better-Financial-Education.png
ORGANIZER;CN="Foguth Financial":MAILTO:george@foguthfinancial.com
END:VEVENT
BEGIN:VEVENT
DTSTART;TZID=America/Detroit:20260506T180000
DTEND;TZID=America/Detroit:20260506T200000
DTSTAMP:20260421T161436
CREATED:20260420T182433Z
LAST-MODIFIED:20260420T182433Z
UID:10002176-1778090400-1778097600@foguthfinancial.com
SUMMARY:Taxes in Retirement
DESCRIPTION:JOIN US FOR A COMPLIMENTARY MEAL AND  EDUCATIONAL EVENT THAT WILL HELP  YOU DO THE FOLLOWING: \n\nIDENTIFY THE FIVE BIG RISKS OF RETIREMENT\nSHARE WITH YOU PROVEN METHODS TO HELP  MITIGATE THE IMPACTS OF INFLATION\nSHARE WITH YOU PROVEN METHODS TO HELP  MITIGATE THE IMPACTS OF TAXES\nBUILD A BETTER UNDERSTANDING OF THE RETIREMENT LANDSCAPE\n\nACT FAST BECAUSE SEATING IS LIMITED.  \nAs seating is limited\, FIRST TIME ATTENDEES ONLY\, please. \n 
URL:https://foguthfinancial.com/event/taxes-in-retirement-708/
LOCATION:Cooper’s Hawk Lansing\, 2101 Lake Lansing Rd\, Lansing\, MI\, 48912\, United States
CATEGORIES:Mid Michigan
ATTACH;FMTTYPE=image/png:https://foguthfinancial.com/wp-content/uploads/2025/11/How-to-Minimize-Taxes-in-Retirement_-Better-Financial-Education.png
ORGANIZER;CN="Foguth Financial":MAILTO:george@foguthfinancial.com
END:VEVENT
BEGIN:VEVENT
DTSTART;TZID=America/Detroit:20260507T180000
DTEND;TZID=America/Detroit:20260507T200000
DTSTAMP:20260421T161436
CREATED:20260420T184227Z
LAST-MODIFIED:20260420T184227Z
UID:10002178-1778176800-1778184000@foguthfinancial.com
SUMMARY:Legacy Planning Your Estate
DESCRIPTION:JOIN US FOR A COMPLIMENTARY MEAL AND EDUCATIONAL EVENT THAT WILL HELP YOU WITH THE FOLLOWING: \n\nESTATE PLANNING ESSENTIALS-Leveraging today’s exemptions\, trusts and charitable tools to preserve and transfer wealth efficiently\nTAX STRATEGIES-Coordinate withdrawals from taxable\, tax-deferred and tax-free accounts strategically\nMAKING SENSE OF TODAY’S MARKETS-We’ll discuss how to think about investing in today’s uncertain market-balancing opportunity with discipline to make smart\, long-term decisions\nLEGACY PLANNING-Protect your assets and share your legacy with your children\, favorite charity or another designated beneficiary\n\n  \nACT FAST BECAUSE SEATING IS LIMITED.  \nAs seating is limited\, FIRST TIME ATTENDEES ONLY\, please. \n 
URL:https://foguthfinancial.com/event/legacy-planning-your-estate-52/
LOCATION:Mojave Cantina\, 22870 Pontiac Trail\, South Lyon\, MI\, 48178\, United States
CATEGORIES:Southeast Michigan
ATTACH;FMTTYPE=image/png:https://foguthfinancial.com/wp-content/uploads/2025/12/image-3.png
ORGANIZER;CN="Foguth Financial":MAILTO:george@foguthfinancial.com
END:VEVENT
BEGIN:VEVENT
DTSTART;TZID=America/Detroit:20260507T180000
DTEND;TZID=America/Detroit:20260507T200000
DTSTAMP:20260421T161436
CREATED:20260420T184415Z
LAST-MODIFIED:20260420T184415Z
UID:10002179-1778176800-1778184000@foguthfinancial.com
SUMMARY:Taxes in Retirement
DESCRIPTION:JOIN US FOR A COMPLIMENTARY MEAL AND  EDUCATIONAL EVENT THAT WILL HELP  YOU DO THE FOLLOWING: \n\nIDENTIFY THE FIVE BIG RISKS OF RETIREMENT\nSHARE WITH YOU PROVEN METHODS TO HELP  MITIGATE THE IMPACTS OF INFLATION\nSHARE WITH YOU PROVEN METHODS TO HELP  MITIGATE THE IMPACTS OF TAXES\nBUILD A BETTER UNDERSTANDING OF THE RETIREMENT LANDSCAPE\n\nACT FAST BECAUSE SEATING IS LIMITED.  \nAs seating is limited\, FIRST TIME ATTENDEES ONLY\, please. \n 
URL:https://foguthfinancial.com/event/taxes-in-retirement-710/
LOCATION:Sapori Italian Restaurant\, 6067 26 Mile Rd\, Washington\, MI\, 48094\, United States
CATEGORIES:Southeast Michigan
ATTACH;FMTTYPE=image/png:https://foguthfinancial.com/wp-content/uploads/2025/11/How-to-Minimize-Taxes-in-Retirement_-Better-Financial-Education.png
ORGANIZER;CN="Foguth Financial":MAILTO:george@foguthfinancial.com
END:VEVENT
BEGIN:VEVENT
DTSTART;TZID=America/Phoenix:20260507T180000
DTEND;TZID=America/Phoenix:20260507T200000
DTSTAMP:20260421T161436
CREATED:20260420T184626Z
LAST-MODIFIED:20260420T184626Z
UID:10002180-1778176800-1778184000@foguthfinancial.com
SUMMARY:Legacy Planning Your Estate
DESCRIPTION:JOIN US FOR A COMPLIMENTARY MEAL AND EDUCATIONAL EVENT THAT WILL HELP YOU WITH THE FOLLOWING: \n\nESTATE PLANNING ESSENTIALS-Leveraging today’s exemptions\, trusts and charitable tools to preserve and transfer wealth efficiently\nTAX STRATEGIES-Coordinate withdrawals from taxable\, tax-deferred and tax-free accounts strategically\nMAKING SENSE OF TODAY’S MARKETS-We’ll discuss how to think about investing in today’s uncertain market-balancing opportunity with discipline to make smart\, long-term decisions\nLEGACY PLANNING-Protect your assets and share your legacy with your children\, favorite charity or another designated beneficiary\n\n  \nACT FAST BECAUSE SEATING IS LIMITED.  \nAs seating is limited\, FIRST TIME ATTENDEES ONLY\, please. \n 
URL:https://foguthfinancial.com/event/legacy-planning-your-estate-53/
LOCATION:Cooper’s Hawk-Scottsdale\, 7361 Frank Lloyd Wright Blvd\, Scottsdale\, AZ\, 85260\, United States
CATEGORIES:Central Arizona
ATTACH;FMTTYPE=image/png:https://foguthfinancial.com/wp-content/uploads/2025/12/image-3.png
ORGANIZER;CN="Foguth Financial":MAILTO:george@foguthfinancial.com
END:VEVENT
BEGIN:VEVENT
DTSTART;TZID=America/Detroit:20260507T180000
DTEND;TZID=America/Detroit:20260507T200000
DTSTAMP:20260421T161436
CREATED:20260420T184819Z
LAST-MODIFIED:20260420T184819Z
UID:10002181-1778176800-1778184000@foguthfinancial.com
SUMMARY:Legacy Planning Your Estate
DESCRIPTION:JOIN US FOR A COMPLIMENTARY MEAL AND EDUCATIONAL EVENT THAT WILL HELP YOU WITH THE FOLLOWING: \n\nESTATE PLANNING ESSENTIALS-Leveraging today’s exemptions\, trusts and charitable tools to preserve and transfer wealth efficiently\nTAX STRATEGIES-Coordinate withdrawals from taxable\, tax-deferred and tax-free accounts strategically\nMAKING SENSE OF TODAY’S MARKETS-We’ll discuss how to think about investing in today’s uncertain market-balancing opportunity with discipline to make smart\, long-term decisions\nLEGACY PLANNING-Protect your assets and share your legacy with your children\, favorite charity or another designated beneficiary\n\n  \nACT FAST BECAUSE SEATING IS LIMITED.  \nAs seating is limited\, FIRST TIME ATTENDEES ONLY\, please. \n 
URL:https://foguthfinancial.com/event/legacy-planning-your-estate-54/
LOCATION:Antonio’s Cucina Italiana\, 37646 W 12 Mile Rd\, Farmington Hills\, MI\, 48331\, United States
CATEGORIES:Southeast Michigan
ATTACH;FMTTYPE=image/png:https://foguthfinancial.com/wp-content/uploads/2025/12/image-3.png
ORGANIZER;CN="Foguth Financial":MAILTO:george@foguthfinancial.com
END:VEVENT
END:VCALENDAR